BEGIN:VCALENDAR
VERSION:2.0
PRODID:-//SHLA - ECPv6.15.20//NONSGML v1.0//EN
CALSCALE:GREGORIAN
METHOD:PUBLISH
X-WR-CALNAME:SHLA
X-ORIGINAL-URL:https://shla.org.uk
X-WR-CALDESC:Events for SHLA
REFRESH-INTERVAL;VALUE=DURATION:PT1H
X-Robots-Tag:noindex
X-PUBLISHED-TTL:PT1H
BEGIN:VTIMEZONE
TZID:Europe/London
BEGIN:DAYLIGHT
TZOFFSETFROM:+0000
TZOFFSETTO:+0100
TZNAME:BST
DTSTART:20210328T010000
END:DAYLIGHT
BEGIN:STANDARD
TZOFFSETFROM:+0100
TZOFFSETTO:+0000
TZNAME:GMT
DTSTART:20211031T010000
END:STANDARD
BEGIN:DAYLIGHT
TZOFFSETFROM:+0000
TZOFFSETTO:+0100
TZNAME:BST
DTSTART:20220327T010000
END:DAYLIGHT
BEGIN:STANDARD
TZOFFSETFROM:+0100
TZOFFSETTO:+0000
TZNAME:GMT
DTSTART:20221030T010000
END:STANDARD
BEGIN:DAYLIGHT
TZOFFSETFROM:+0000
TZOFFSETTO:+0100
TZNAME:BST
DTSTART:20230326T010000
END:DAYLIGHT
BEGIN:STANDARD
TZOFFSETFROM:+0100
TZOFFSETTO:+0000
TZNAME:GMT
DTSTART:20231029T010000
END:STANDARD
BEGIN:DAYLIGHT
TZOFFSETFROM:+0000
TZOFFSETTO:+0100
TZNAME:BST
DTSTART:20240331T010000
END:DAYLIGHT
BEGIN:STANDARD
TZOFFSETFROM:+0100
TZOFFSETTO:+0000
TZNAME:GMT
DTSTART:20241027T010000
END:STANDARD
BEGIN:DAYLIGHT
TZOFFSETFROM:+0000
TZOFFSETTO:+0100
TZNAME:BST
DTSTART:20250330T010000
END:DAYLIGHT
BEGIN:STANDARD
TZOFFSETFROM:+0100
TZOFFSETTO:+0000
TZNAME:GMT
DTSTART:20251026T010000
END:STANDARD
END:VTIMEZONE
BEGIN:VEVENT
DTSTART;TZID=Europe/London:20240409T173000
DTEND;TZID=Europe/London:20240409T190000
DTSTAMP:20260425T020954
CREATED:20240321T143257Z
LAST-MODIFIED:20240321T143257Z
UID:1726-1712683800-1712689200@shla.org.uk
SUMMARY:Property Chamber (First-tier Tribunal) Careers Event
DESCRIPTION:On behalf of the Property Chamber (First-Tier Tribunal) we are pleased to invite to their Careers Event. \nIn Person and remote video link \nRecruitment Spring/Summer 2024 \n\nThey are recruiting salaried Judges across 4 of our regions in May 2024.\nThey are also expecting a competition for fee paid Judges to be launched in April to June 2024.\n\nAll competitions are run by the Judicial Appointments Commission. \nOur Work \nThey currently have over 230 jurisdictions\, and handle applications and appeals relating to a wide range of residential property disputes\, including: \n\nLeasehold management and enfranchisement disputes\nRents cases and Park Homes disputes\nHousing Act 2004 and Housing and Planning Act 2016 appeals and applications\nBuilding Safety Act 2022 applications.\n\nOur Judges \nWe have a small team of salaried Judges\, drawn from both branches of the profession\, and rely on fee paid Judges and members to hear most of our cases.  We are particularly interested in encouraging applications from women\, people from minority ethnic backgrounds and people with disabilities. We would also welcome applications from Chartered Legal Executive Lawyers to broaden our professional base. \nThe Event \nThey are holding a careers event on 9 April 2024 at our London offices.  You will hear from senior judges including Siobhan McGrath (Chamber President) and Tim Powell (Regional Judge\, London Region). We will be joined by Brie Stephens-Hoare KC\, representing the Judicial Appointments Commission.  They will talk you through their roles and the Tribunal’s work\, give you a brief career history and tips to successfully navigate the application process.  We will then allow plenty of time for questions. \nIn-person numbers are limited\, so if you would like to attend please contact propertychambersupport@judiciary.uk as soon as possible (and in any event by 5 April 2024).  Please state your name\, practice background and whether you would prefer to come in person or would like to be sent a link to join remotely. It would help if you could indicate where you are based geographically. We will do our best to accommodate your preferred means of attendance. \nWe look forward to meeting you!
URL:https://shla.org.uk/event/property-chamber-first-tier-tribunal-careers-event/
LOCATION:Property Chamber (First-tier Tribunal)\, 10 Alfred Place\, London\, WC1 7LR\, United Kingdom
ORGANIZER;CN="Property Chamber (First-tier Tribunal)":MAILTO:propertychambersupport@judiciary.uk
END:VEVENT
BEGIN:VEVENT
DTSTART;TZID=Europe/London:20240227T180000
DTEND;TZID=Europe/London:20240227T190000
DTSTAMP:20260425T020955
CREATED:20240207T125047Z
LAST-MODIFIED:20240209T122320Z
UID:1588-1709056800-1709060400@shla.org.uk
SUMMARY:Housing Conditions Update - In person event
DESCRIPTION:Awaab’s Law – The future? \nMatthew Lake examines the key points of the consultation. \n\nThree Good Things – small blessings for social landlords facing housing conditions claims. \nRichard Dewsbery considers three topics dealt with in short form which may reduce the risks of a costly claim. \n1. Should the claim be stayed?  What the defendant needs to think about in order to make a successful stay application to allow the parties to explore ADR. \n2. Allocation to track – why it is important\, how to get the best results\, and some common pitfalls in this “numbers game”. \n3. Knocking out the expert – how to use the pre-action protocol to challenge the claimant’s choice of expert.\n \nJoin our speakers\n Matthew Lake \nMatthew is a specialist property litigator acting for Local Authorities and Registered Providers of Social Housing in relation to all manner of tenancy management issues. \nMatthew has developed a particular specialism in defending housing conditions claims and prides himself on offering as robust a defence as possible in every case.  Having previously represented tenants at his former firm in all manner of disputes against landlords\, and having been that firm’s Housing Legal Aid Supervisor\, this provides him with a tactical advantage when defending claims as he can anticipate the arguments which will be raised by a tenant’s solicitor and the manner in which they may be susceptible to challenge\, at the outset of a case. Since joining Weightmans in 2010 Matthew has acted solely for landlords. \nRichard Dewsbery\nRichard was called to the Bar in 1992. Practicing from St Ives Chambers for over 20 years\, he took a break from practice in 2015 to work in-house at a large Housing Association\, heading up a legal team comprising four other qualified lawyers plus paralegals and support staff. He has now returned to practice in order to offer his expertise more widely. \nWith over thirty years of experience\, Richard has an extensive knowledge of social housing and practises exclusively in this field. His clients are mainly large institutional landlords (including councils and Housing Associations). Richard’s caseload includes discretionary and mandatory possession claims\, injunctions and committals\, and housing conditions cases (under both section 11 and fitness for human habitation legislation). \nRichard has a particularly wide and technical knowledge of social housing; he was a pioneer in the field of antisocial behaviour orders and injunctions. Uniquely amongst practitioners at the Bar\, Richard has a keen understanding of the different competing pressures and interests that corporate clients are acting under\, gained from his years working in-house. \nIn particular\, Richard has a wealth of experience advising on and defending housing conditions claims brought against landlords by their tenants\, whether at an early stage under the pre-action protocol or in court. This includes private prosecutions under section 82 of the EPA brought against landlords by their tenants – whether advising at an early stage or providing representation at trial. \nDorota Pawlowski – Session Chair\nDorota started her housing career at Birmingham City Council before moving into private practice. She is a Partner at Trowers and Hamlins LLP in Birmingham\, where she advises on all aspects of housing management. \nBOOK YOUR TICKETS \nHousing Conditions UpdateHousing Conditions UpdateYour detailsFull name*Organisation*Position*Email*Dietaries/allergies*SHLA Member* Yes No No\, please send details of membershipNo\, please send details of membershipSelect ticketsTickets (FREE)Select number of tickets requiredAdditional TicketsFull nameOrganisationPositionEmailDietaries/allergiesSHLA Member Yes No No\, please send details of membershipNo\, please send details of membershipIf you are human\, leave this field blank.SubmitStart Over
URL:https://shla.org.uk/event/housing-conditions-update-in-person-event/
LOCATION:Weightmans LLP\, 103 Colmore Row\, Birmingham\, B3 3AG\, United Kingdom
ATTACH;FMTTYPE=image/png:https://shla.org.uk/wp-content/uploads/2024/02/Blue-Modern-Webinar-Twitter-Post-2.png
END:VEVENT
BEGIN:VEVENT
DTSTART;TZID=Europe/London:20240216T130000
DTEND;TZID=Europe/London:20240216T140000
DTSTAMP:20260425T020955
CREATED:20240205T141738Z
LAST-MODIFIED:20240205T141738Z
UID:1567-1708088400-1708092000@shla.org.uk
SUMMARY:What has Churchill done for us?
DESCRIPTION:A discussion of the arguments in Churchill v Merthyr Tydfil CBC and whether a new age of compulsory ADR has been ushered in. \nThis virtual seminar will discuss; \n\nThe background and arguments in the case\nWhat the court decided and why\nHow it is relevant in social housing litigation\n\nJoin Elizabeth England who represented SHLA in the Court of Appeal for the insider’s guide to Churchill v Merthyr. \nElizabeth is an established property practitioner\, with particular expertise in the fields of residential landlord and tenant\, and social housing law. \nREGISTER YOUR PLACE HERE
URL:https://shla.org.uk/event/what-has-churchill-done-for-us/
LOCATION:Virtual
ATTACH;FMTTYPE=image/jpeg:https://shla.org.uk/wp-content/uploads/2022/10/eLIZABETH-eNGLAND-1.jpg
END:VEVENT
BEGIN:VEVENT
DTSTART;TZID=Europe/London:20231121T120000
DTEND;TZID=Europe/London:20231121T130000
DTSTAMP:20260425T020955
CREATED:20230913T093239Z
LAST-MODIFIED:20231013T100704Z
UID:1298-1700568000-1700571600@shla.org.uk
SUMMARY:Disrepair and Social Housing :  the Current Position In Wales
DESCRIPTION:[vc_row][vc_column][vc_column_text]We are very pleased to announce the very first webinar hosted by the newly formed Wales regional committee of the Social Housing Law Association. Disrepair and property condition is high on the agenda of social housing landlords across Wales in light of recent media coverage and the introduction of the Renting Homes (Wales) Act 2016. Caroline Stubbs\, sub-committee member and Director of Legal Services at Pobl Group will chair an informative session considering current trends in disrepair in Wales. She will be joined by Hayley McNamara (a specialist policy advisor overseeing Community Housing Cymru’s cost of living\, damp and mould and disrepair work) \, Rebecca Rees (Partner and Head of Property Dispute Resolution at Hugh James Solicitors) and David Wilton (Chief Executive of TPAS Cymru). \nPlease join us\, meet some of the members of the new Wales sub-committee and hear about work ongoing in the sector to support landlords and tenants.[/vc_column_text][/vc_column][/vc_row][vc_row css=”.vc_custom_1694597901107{padding-top: 40px !important;padding-bottom: 40px !important;}”][vc_column width=”2/3″ css=”.vc_custom_1694597919711{padding-top: 40px !important;padding-right: 40px !important;padding-bottom: 40px !important;padding-left: 40px !important;background-color: #f7f7f7 !important;}”][vc_column_text]\nBook Now\n\n\n\n\nWales Webinar 21st November 2023\n\n\n\n\n\n\n\n\nYour details\n\n\n\n    Name\n        *\n    \n    \n	\n		Name	\n\n	\n					\n				\n					Full Name				\n\n				Full Name			\n						\n				\n					Organisation				\n\n				Organisation			\n				\n\n\n    \n    \n\n\n    Email\n        *\n    \n    \n    \n    \n\n\n    Contact Number\n        *\n    \n    \n    \n    \n\n\n\nSelect tickets\n\n\n\n    SHLA Member tickets (FREE)\n        \n    \n    \n    Select number of tickets required\n    \n\n\n    Sub total\n        \n    \n     £\n    \n    \n\n\n    Non-members (£30.00)\n        \n    \n    \n    Select number of tickets required\n    \n\n\n    Sub total\n        \n    \n     £\n    \n    \n\n\n\n    Name and email address of additional attendees.\n        *\n    \n    \n    \n    \n\n\nBilling\n\n\n\n    Total due\n        \n    \n     £\n    \n    \n\n\n    Billing Address\n        \n    \n    \n\n	Billing Address\n\n\n	\n		Billing Address	\n		\n	\n\n	\n		Billing Address	\n		\n	\n\n	\n		City	\n		\n	City\n\n	\n		Billing Address	\n		\n	\n\n	\n		Billing Address	\n		\n	\n\n\n\n    \n    \n\n\n    Credit Card\n        \n    \n    \n\n\n\n    \n    \n\n\n		\n			\n			\n			\n				If you are human\, leave this field blank.			\n			\n		\n		\n\nSubmit\n\nStart Over\n\n\n\n\n\n\n[/vc_column_text][/vc_column][vc_column width=”1/3″][/vc_column][/vc_row]
URL:https://shla.org.uk/event/disrepair-and-social-housing-the-current-position-in-wales/
ATTACH;FMTTYPE=image/png:https://shla.org.uk/wp-content/uploads/2023/09/Blue-Modern-Webinar-Twitter-Post-1-e1697191602275.png
END:VEVENT
BEGIN:VEVENT
DTSTART;VALUE=DATE:20221117
DTEND;VALUE=DATE:20221118
DTSTAMP:20260425T020955
CREATED:20220704T101615Z
LAST-MODIFIED:20220906T103149Z
UID:748-1668643200-1668729599@shla.org.uk
SUMMARY:SHLA Annual Conference 2022
DESCRIPTION:The SHLA Annual Conference – By Housing Professionals for housing professionals \nThe Social Housing Law Association (SHLA) annual conference is aimed at the social housing sector.  \nTo see the full event information please click here
URL:https://shla.org.uk/event/shla-annual-conference-2022/
LOCATION:Ashworth Centre\, Honourable Society of Lincoln’s Inn\, London\, WC2A 3TL\, London\, WC2A 3TL\, United Kingdom
ATTACH;FMTTYPE=image/jpeg:https://shla.org.uk/wp-content/uploads/2022/09/SHLA-Conference-2022-BOOK-NOW-1080x1080-v2.jpg
END:VEVENT
BEGIN:VEVENT
DTSTART;TZID=Europe/London:20220804T170000
DTEND;TZID=Europe/London:20220804T190000
DTSTAMP:20260425T020955
CREATED:20220722T145125Z
LAST-MODIFIED:20220726T114838Z
UID:814-1659632400-1659639600@shla.org.uk
SUMMARY:Avoiding the Roseberry blues: Dealing effectively with claims against disabled tenants
DESCRIPTION:[vc_row content_placement=”middle” equal_height=”yes” css=”.vc_custom_1658836123665{padding-top: 40px !important;padding-bottom: 40px !important;}”][vc_column width=”1/4″][vc_single_image image=”817″][/vc_column][vc_column width=”1/2″][vc_column_text]\n\nIs the tenant “disabled”?\nA landlord’s duties towards disabled tenants\nCommon litigation pitfalls\nPractical steps\n\n[/vc_column_text][/vc_column][vc_column width=”1/4″]REGISTER TO ATTEND [/vc_column][/vc_row][vc_row full_width=”stretch_row” css=”.vc_custom_1658836014315{padding-top: 40px !important;padding-bottom: 40px !important;}”][vc_column][vc_column_text]\nSpeakers\n[/vc_column_text][vc_separator css=”.vc_custom_1658835825257{padding-top: 20px !important;padding-bottom: 20px !important;}”][vc_row_inner][vc_column_inner width=”1/2″][vc_column_text css=”.vc_custom_1658836040356{border-left-width: 4px !important;padding-top: 22px !important;padding-right: 22px !important;padding-bottom: 22px !important;padding-left: 22px !important;border-left-color: #009dbc !important;border-left-style: solid !important;}”]\nIris Ferber\nIris is an established Housing and Employment Law specialist\, with a particular interest in disability discrimination law. \nAs Head of the Housing Group at 42 Bedford Row\, Iris maintains a busy Housing practice\, as well as having a keen interest in the area of law. She regularly deals with all aspects of Housing law\, and has long experience in dealing with complex anti-social behaviour cases\, including those involving mental health issues\, on behalf of both landlords and tenants. She is particularly good at dealing with vulnerable clients and witnesses\, and managing the complex legal arguments involved in Equality Act and Human Rights cases. Iris’s expertise in discrimination law generally (because of her combined practice in Housing and Employment Law) makes her particularly adept at handling Equality Act defences.[/vc_column_text][/vc_column_inner][vc_column_inner width=”1/2″][vc_column_text css=”.vc_custom_1658836052670{border-left-width: 4px !important;padding-top: 22px !important;padding-right: 22px !important;padding-bottom: 22px !important;padding-left: 22px !important;border-left-color: #009dbc !important;border-left-style: solid !important;}”]\nNatalie Foster:\nNatalie has crafted a successful and busy civil practice where she specialises in both residential and commercial property disputes and personal injury. She regularly advises and represents landlords and tenants in a broad range of actions including possession\, rent arrears\, trespass\, and disrepair claims. \nShe has frequently provided crucial advice on the validity of section 21 notices\, including issues surrounding tenancy deposit protection and gas safety certificate requirements. \nNatalie also has extensive experience both advising and representing clients in a broad range of property disputes and the commercial / contractual issues that arise. Natalie has been instructed to deal with applications to strike out\, she has been instructed in successful emergency injunction applications in the High Court\, and emergency applications for relief from forfeiture.[/vc_column_text][/vc_column_inner][/vc_row_inner][vc_separator css=”.vc_custom_1658835825257{padding-top: 20px !important;padding-bottom: 20px !important;}”]REGISTER TO ATTEND [/vc_column][/vc_row]
URL:https://shla.org.uk/event/avoiding-the-roseberry-blues-dealing-effectively-with-claims-against-disabled-tenants/
LOCATION:42 Bedford Row\, London\, WC1R 4LL\, 42 Bedford Row\, London\, WC1R 4LL\, United Kingdom
END:VEVENT
END:VCALENDAR